BEGIN:VCALENDAR
VERSION:2.0
PRODID:-//2S-Support Boat - ECPv6.15.20//NONSGML v1.0//EN
CALSCALE:GREGORIAN
METHOD:PUBLISH
X-WR-CALNAME:2S-Support Boat
X-ORIGINAL-URL:https://www.2s-supportboat.org
X-WR-CALDESC:Events for 2S-Support Boat
REFRESH-INTERVAL;VALUE=DURATION:PT1H
X-Robots-Tag:noindex
X-PUBLISHED-TTL:PT1H
BEGIN:VTIMEZONE
TZID:America/Los_Angeles
BEGIN:DAYLIGHT
TZOFFSETFROM:-0800
TZOFFSETTO:-0700
TZNAME:PDT
DTSTART:20240310T100000
END:DAYLIGHT
BEGIN:STANDARD
TZOFFSETFROM:-0700
TZOFFSETTO:-0800
TZNAME:PST
DTSTART:20241103T090000
END:STANDARD
BEGIN:DAYLIGHT
TZOFFSETFROM:-0800
TZOFFSETTO:-0700
TZNAME:PDT
DTSTART:20250309T100000
END:DAYLIGHT
BEGIN:STANDARD
TZOFFSETFROM:-0700
TZOFFSETTO:-0800
TZNAME:PST
DTSTART:20251102T090000
END:STANDARD
BEGIN:DAYLIGHT
TZOFFSETFROM:-0800
TZOFFSETTO:-0700
TZNAME:PDT
DTSTART:20260308T100000
END:DAYLIGHT
BEGIN:STANDARD
TZOFFSETFROM:-0700
TZOFFSETTO:-0800
TZNAME:PST
DTSTART:20261101T090000
END:STANDARD
END:VTIMEZONE
BEGIN:VEVENT
DTSTART;TZID=America/Los_Angeles:20250906T090000
DTEND;TZID=America/Los_Angeles:20250906T173000
DTSTAMP:20260423T082253
CREATED:20250805T152802Z
LAST-MODIFIED:20250903T145736Z
UID:4700-1757149200-1757179800@www.2s-supportboat.org
SUMMARY:Trans Wellness Collective Symposium for  Learning and Community\, Philadelphia
DESCRIPTION:CATWC Symposium ScheduleThe Charlene Arcila Trans Wellness Collective is thrilled to announce our next event in our series of programming for 2025. On Saturday\, September 6 from 9:00 am to 5:30 pm\, we will host our Symposium for Learning and Community in-person at Temple University’s Howard Gittis Student Center in Philadelphia\, Pennsylvania. The theme of this event is Rooted in Resistance\, Nourished by Care. The symposium will host workshops\, speakers\, and time for networking\, socializing\, and community building. \nThe 2S-Support Boat will be in attendance\, with Itai Jeffries\, PhD\, and Hannah Wenger\, MD\, presenting about Indigenous care medical and community care in the Tr*mp era
URL:https://www.2s-supportboat.org/event/trans-wellness-collective-symposium-for-learning-and-community-philadelphia/
LOCATION:temple university Howard Gittis Student Center\, 1755 N 13th St\, Philadelphia\, PA\, 19122\, United States
CATEGORIES:Community Events,Conferences,Forums & Townhalls
ATTACH;FMTTYPE=image/png:https://www.2s-supportboat.org/wp-content/uploads/2025/08/Collective-Sept-Event.png
END:VEVENT
END:VCALENDAR