BEGIN:VCALENDAR
VERSION:2.0
PRODID:-//2S-Support Boat - ECPv6.15.20//NONSGML v1.0//EN
CALSCALE:GREGORIAN
METHOD:PUBLISH
X-ORIGINAL-URL:https://www.2s-supportboat.org
X-WR-CALDESC:Events for 2S-Support Boat
REFRESH-INTERVAL;VALUE=DURATION:PT1H
X-Robots-Tag:noindex
X-PUBLISHED-TTL:PT1H
BEGIN:VTIMEZONE
TZID:America/Los_Angeles
BEGIN:DAYLIGHT
TZOFFSETFROM:-0800
TZOFFSETTO:-0700
TZNAME:PDT
DTSTART:20240310T100000
END:DAYLIGHT
BEGIN:STANDARD
TZOFFSETFROM:-0700
TZOFFSETTO:-0800
TZNAME:PST
DTSTART:20241103T090000
END:STANDARD
BEGIN:DAYLIGHT
TZOFFSETFROM:-0800
TZOFFSETTO:-0700
TZNAME:PDT
DTSTART:20250309T100000
END:DAYLIGHT
BEGIN:STANDARD
TZOFFSETFROM:-0700
TZOFFSETTO:-0800
TZNAME:PST
DTSTART:20251102T090000
END:STANDARD
BEGIN:DAYLIGHT
TZOFFSETFROM:-0800
TZOFFSETTO:-0700
TZNAME:PDT
DTSTART:20260308T100000
END:DAYLIGHT
BEGIN:STANDARD
TZOFFSETFROM:-0700
TZOFFSETTO:-0800
TZNAME:PST
DTSTART:20261101T090000
END:STANDARD
END:VTIMEZONE
BEGIN:VEVENT
DTSTART;TZID=America/Los_Angeles:20250627T130000
DTEND;TZID=America/Los_Angeles:20250627T200000
DTSTAMP:20260423T124814
CREATED:20250624T184530Z
LAST-MODIFIED:20250624T184530Z
UID:3413-1751029200-1751054400@www.2s-supportboat.org
SUMMARY:Indigiqueer Festival
DESCRIPTION:Welcome to Indigiqueer Festival!\nSet on Seattle’s waterfront at Pier 62\, enjoy an evening of engaging and interactive performances\, activism\, and community with the seas\, mountains\, and city as your backdrop! \nNatoncks Metsu will join as the food vendor. There will also be art vendors and workshops. \nThis festival is an opportunity for our community to come together in strength and celebration to build community and celebrate the amazing artists doing work in community. \nWe will be launching the Two Spirit Support Boat at this event! Looking forward to seeing y’all there!
URL:https://www.2s-supportboat.org/event/indigiqueer-festival/
LOCATION:Pier 62\, 1951 Alaskan Way\, Seattle\, WA\, 98101\, United States
CATEGORIES:Community Events,Festivals
ATTACH;FMTTYPE=image/png:https://www.2s-supportboat.org/wp-content/uploads/2025/06/Screenshot-2025-06-24-at-11.40.44 AM.png
END:VEVENT
END:VCALENDAR