BEGIN:VCALENDAR
VERSION:2.0
PRODID:-//2S-Support Boat - ECPv6.15.20//NONSGML v1.0//EN
CALSCALE:GREGORIAN
METHOD:PUBLISH
X-WR-CALNAME:2S-Support Boat
X-ORIGINAL-URL:https://www.2s-supportboat.org
X-WR-CALDESC:Events for 2S-Support Boat
REFRESH-INTERVAL;VALUE=DURATION:PT1H
X-Robots-Tag:noindex
X-PUBLISHED-TTL:PT1H
BEGIN:VTIMEZONE
TZID:America/Los_Angeles
BEGIN:DAYLIGHT
TZOFFSETFROM:-0800
TZOFFSETTO:-0700
TZNAME:PDT
DTSTART:20240310T100000
END:DAYLIGHT
BEGIN:STANDARD
TZOFFSETFROM:-0700
TZOFFSETTO:-0800
TZNAME:PST
DTSTART:20241103T090000
END:STANDARD
BEGIN:DAYLIGHT
TZOFFSETFROM:-0800
TZOFFSETTO:-0700
TZNAME:PDT
DTSTART:20250309T100000
END:DAYLIGHT
BEGIN:STANDARD
TZOFFSETFROM:-0700
TZOFFSETTO:-0800
TZNAME:PST
DTSTART:20251102T090000
END:STANDARD
BEGIN:DAYLIGHT
TZOFFSETFROM:-0800
TZOFFSETTO:-0700
TZNAME:PDT
DTSTART:20260308T100000
END:DAYLIGHT
BEGIN:STANDARD
TZOFFSETFROM:-0700
TZOFFSETTO:-0800
TZNAME:PST
DTSTART:20261101T090000
END:STANDARD
END:VTIMEZONE
BEGIN:VEVENT
DTSTART;TZID=America/Los_Angeles:20250713T130000
DTEND;TZID=America/Los_Angeles:20250713T160000
DTSTAMP:20260423T155053
CREATED:20250626T163455Z
LAST-MODIFIED:20250626T163455Z
UID:3948-1752411600-1752422400@www.2s-supportboat.org
SUMMARY:
DESCRIPTION:Pride event 2025
URL:https://www.2s-supportboat.org/event/3948/
LOCATION:Tulalip Gathering Hall\, 7512 Totem Beach Rd\,\, Tulalip\, WA\, 98271\, United States
CATEGORIES:Community Events,Festivals
ATTACH;FMTTYPE=image/png:https://www.2s-supportboat.org/wp-content/uploads/2025/06/tulalip.png
END:VEVENT
BEGIN:VEVENT
DTSTART;TZID=America/Los_Angeles:20250719T140000
DTEND;TZID=America/Los_Angeles:20250719T180000
DTSTAMP:20260423T155053
CREATED:20250626T145716Z
LAST-MODIFIED:20250626T160735Z
UID:3916-1752933600-1752948000@www.2s-supportboat.org
SUMMARY:Puyallup Tribe PRIDE 2025
DESCRIPTION:SAVE THE DATE!\nEVENT: Puyallup Tribe Pride 2025\nDATE: Saturday\, July 19\, 2025\nTIME: 2 P.M. – 6 P.M.\nLOCATION: 2031 East 32nd St. Tacoma\, WA 98404\n\n\nY2K Throwback theme\n\nThis is a free event hosted by the Puyallup Tribe of Indians and Puyallup Tribe Pride Ad-Hoc Committee. \nOpen to all ages. \nEncourage Y2K theme outfits. \nFeatured activities: \n\nDrag performers\nDrag bingo\nPhoto booth\nMusic\nGiveaways\n\nFor questions please reach out to the Pride Ad-Hoc Committee: Pride@PuyallupTribe-nsn.gov
URL:https://www.2s-supportboat.org/event/puyallup-tribe-pride-2025/
LOCATION:Puyallup\, 2031 East 32nd St.\, Tacoma\, WA\, 98404\, United States
CATEGORIES:Community Events,Festivals
ATTACH;FMTTYPE=image/png:https://www.2s-supportboat.org/wp-content/uploads/2025/06/pp.png
END:VEVENT
BEGIN:VEVENT
DTSTART;TZID=America/Los_Angeles:20250725T150000
DTEND;TZID=America/Los_Angeles:20250725T200000
DTSTAMP:20260423T155053
CREATED:20250626T181357Z
LAST-MODIFIED:20250626T181357Z
UID:3972-1753455600-1753473600@www.2s-supportboat.org
SUMMARY:Squamish Tribe PRIDE: Nch’ú7mut (one love) Pride Celebration
DESCRIPTION:Pride is a time to honour\, love and bring together community. It’s about creating safe\, joyful spaces where our Two Spirit and LGBTQIA+ relatives and community members are celebrated\, seen\, and supported. \nJoin us as we come together for Squamish Nation’s Nch’ú7mut (One Love) Pride Celebration — a powerful day of unity\, celebration\, and love\, where we uplift one another and affirm that everyone belongs. \nEvent details: \n\nJuly 25\, 2025\nParade: 3 pm – 4 pm\nCelebration: 4 pm – 8 pm\nChief Joe Mathias Centre\, Parking Lot (100 Capilano Rd)\n\nEnjoy food trucks\, bouncy castles\, cultural activities\, face painting\, hair braiding\, music\, games\, and more! \nIn honour of our 2SLGBTQIA+ relatives\, we invite you to bring your drums and stand with us in pride\, culture\, and love.
URL:https://www.2s-supportboat.org/event/squamish-tribe-pride-nchu7mut-one-love-pride-celebration/
LOCATION:Chief Joe Mathias Centre\, 100 Capilano Rd\, West Vancouver\, BC\, V7P 0A7\, Canada
CATEGORIES:Community Events,Festivals
ATTACH;FMTTYPE=image/png:https://www.2s-supportboat.org/wp-content/uploads/2025/06/SQUAM.png
END:VEVENT
END:VCALENDAR